BEGIN:VCALENDAR
VERSION:2.0
PRODID:-//Events at Drake&#039;s Brewing - ECPv6.10.2//NONSGML v1.0//EN
CALSCALE:GREGORIAN
METHOD:PUBLISH
X-ORIGINAL-URL:https://events.drinkdrakes.com
X-WR-CALDESC:Events for Events at Drake&#039;s Brewing
REFRESH-INTERVAL;VALUE=DURATION:PT1H
X-Robots-Tag:noindex
X-PUBLISHED-TTL:PT1H
BEGIN:VTIMEZONE
TZID:America/Los_Angeles
BEGIN:DAYLIGHT
TZOFFSETFROM:-0800
TZOFFSETTO:-0700
TZNAME:PDT
DTSTART:20260308T100000
END:DAYLIGHT
BEGIN:STANDARD
TZOFFSETFROM:-0700
TZOFFSETTO:-0800
TZNAME:PST
DTSTART:20261101T090000
END:STANDARD
END:VTIMEZONE
BEGIN:VEVENT
DTSTART;TZID=America/Los_Angeles:20260609T190000
DTEND;TZID=America/Los_Angeles:20260609T210000
DTSTAMP:20260424T073037
CREATED:20250116T200746Z
LAST-MODIFIED:20250204T201719Z
UID:10001221-1781031600-1781038800@events.drinkdrakes.com
SUMMARY:Lotería
DESCRIPTION:Hosted by the fabulous Sally Limón\, a local drag queen extraordinaire\, Lotería Night promises to be an unforgettable celebration of culture and community! \nWhat to Expect\n\nExciting rounds of Lotería with great prizes!\nTantalizing tacos on special – a fiesta for your taste buds!\nUnbeatable Latin beats to keep you moving all night long!\n\nLet the good times roll as Sally Limón brings her charisma\, uniqueness\, nerve\, and talent to the stage. Get ready to be entertained\, dazzled\, and captivated by one of the city’s most fabulous performers!  \n\nWhere: Drake’s Barrel House\nWhen: Reoccurring every 2nd Tuesday\nTime: 7:00 PM\n\nMark your calendars\, grab your friends\, and come ready to shout “¡Lotería!” at the top of your lungs! \nSpread the word\, bring your energy\, and let’s make Lotería Night the talk of the town! \nSee you there\, ready to play and slay!
URL:https://events.drinkdrakes.com/event/loteria-8/
LOCATION:Drake’s Barrel House\, 1933 Davis Street\, San Leandro\, CA\, 94577\, United States
CATEGORIES:Barrel House
ATTACH;FMTTYPE=image/jpeg:https://events.drinkdrakes.com/wp-content/uploads/2025/01/Loteria-Night-1920x1080-1.jpg
END:VEVENT
BEGIN:VEVENT
DTSTART;TZID=America/Los_Angeles:20260613T190000
DTEND;TZID=America/Los_Angeles:20260613T210000
DTSTAMP:20260424T073037
CREATED:20260208T214928Z
LAST-MODIFIED:20260418T000510Z
UID:10003606-1781377200-1781384400@events.drinkdrakes.com
SUMMARY:Bobby Musgrave Presents
DESCRIPTION:Turn it up and shake the walls at Rock Show\, where gritty hooks meet atmospheric edge for a high-energy alternative rock showcase at Drake’s Barrel House on Saturday\, June 13th! Things get moody\, loud\, and explosive with Arcade 9\, Dark Garden\, Dark Satellite\, and Dawn In The Dark as driving bass lines\, layered guitars\, and unforgettable choruses deliver a night of cathartic singalongs and modern alternative rock vibes.
URL:https://events.drinkdrakes.com/event/bobby-musgrave-presents-alternative-rock/
LOCATION:Drake’s Barrel House\, 1933 Davis Street\, San Leandro\, CA\, 94577\, United States
CATEGORIES:Barrel House
ATTACH;FMTTYPE=image/jpeg:https://events.drinkdrakes.com/wp-content/uploads/2026/02/Bobby-Musgrave-Presents-Alternative-Rock-1920x1080-1.jpg
END:VEVENT
END:VCALENDAR