BEGIN:VCALENDAR
VERSION:2.0
PRODID:-//Events at Drake&#039;s Brewing - ECPv6.10.2//NONSGML v1.0//EN
CALSCALE:GREGORIAN
METHOD:PUBLISH
X-ORIGINAL-URL:https://events.drinkdrakes.com
X-WR-CALDESC:Events for Events at Drake&#039;s Brewing
REFRESH-INTERVAL;VALUE=DURATION:PT1H
X-Robots-Tag:noindex
X-PUBLISHED-TTL:PT1H
BEGIN:VTIMEZONE
TZID:America/Los_Angeles
BEGIN:DAYLIGHT
TZOFFSETFROM:-0800
TZOFFSETTO:-0700
TZNAME:PDT
DTSTART:20260308T100000
END:DAYLIGHT
BEGIN:STANDARD
TZOFFSETFROM:-0700
TZOFFSETTO:-0800
TZNAME:PST
DTSTART:20261101T090000
END:STANDARD
END:VTIMEZONE
BEGIN:VEVENT
DTSTART;TZID=America/Los_Angeles:20260503T140000
DTEND;TZID=America/Los_Angeles:20260503T190000
DTSTAMP:20260422T135014
CREATED:20260421T172259Z
LAST-MODIFIED:20260421T174955Z
UID:10003796-1777816800-1777834800@events.drinkdrakes.com
SUMMARY:Pleasure Reading Pop-Up
DESCRIPTION:Grab a pint and a book at our Bookstore Pop-Up on Sunday\, May 3rd at 2PM and spend a Sunday afternoon with Pleasure Reading\, a local pop-up romance bookstore at Drake’s Barrel House with a curated collection of contemporary\, historical and fantasy romances\, plus a selection of greeting cards\, bookmarks\, stickers and much more. Pick up something new for yourself or for a friend!
URL:https://events.drinkdrakes.com/event/pleasure-reading-pop-up/
LOCATION:Drake’s Barrel House\, 1933 Davis Street\, San Leandro\, CA\, 94577\, United States
CATEGORIES:Barrel House
ATTACH;FMTTYPE=image/jpeg:https://events.drinkdrakes.com/wp-content/uploads/2026/04/pleasure-reading-1920x1080-1.jpg
END:VEVENT
END:VCALENDAR