BEGIN:VCALENDAR
VERSION:2.0
PRODID:-//Events at Drake&#039;s Brewing - ECPv6.10.2//NONSGML v1.0//EN
CALSCALE:GREGORIAN
METHOD:PUBLISH
X-WR-CALNAME:Events at Drake&#039;s Brewing
X-ORIGINAL-URL:https://events.drinkdrakes.com
X-WR-CALDESC:Events for Events at Drake&#039;s Brewing
REFRESH-INTERVAL;VALUE=DURATION:PT1H
X-Robots-Tag:noindex
X-PUBLISHED-TTL:PT1H
BEGIN:VTIMEZONE
TZID:America/Los_Angeles
BEGIN:DAYLIGHT
TZOFFSETFROM:-0800
TZOFFSETTO:-0700
TZNAME:PDT
DTSTART:20260308T100000
END:DAYLIGHT
BEGIN:STANDARD
TZOFFSETFROM:-0700
TZOFFSETTO:-0800
TZNAME:PST
DTSTART:20261101T090000
END:STANDARD
END:VTIMEZONE
BEGIN:VEVENT
DTSTART;TZID=America/Los_Angeles:20260305T170000
DTEND;TZID=America/Los_Angeles:20260305T200000
DTSTAMP:20260420T092203
CREATED:20260224T224835Z
LAST-MODIFIED:20260224T224835Z
UID:10003735-1772730000-1772740800@events.drinkdrakes.com
SUMMARY:Women’s Empowerment Month
DESCRIPTION:Celebrate Women’s Empowerment Month at Drake’s Dealership with two inspiring\, family friendly evenings in partnership with Scientific Adventures For Girls on Thursday\, March 5th and Thursday\, March 26th for a free\, hands on drop in fundraiser supporting STEM education for girls. Guests of all ages can build and create with engaging LEGO® activities while enjoying delicious food and drinks and learning more about local afterschool STEM programs. Bring the whole family\, grab a bite\, and support a powerful mission shaping the future of girls in our community.
URL:https://events.drinkdrakes.com/event/womens-empowerment-month/2026-03-05/
LOCATION:Drake’s Dealership\, 2325 Broadway\, Oakland\, CA\, 94612\, United States
CATEGORIES:Dealership
ATTACH;FMTTYPE=image/jpeg:https://events.drinkdrakes.com/wp-content/uploads/2026/02/scientific-adventures-for-girls-1920x1080-1.jpg
END:VEVENT
END:VCALENDAR