BEGIN:VCALENDAR
VERSION:2.0
PRODID:-//Events at Drake&#039;s Brewing - ECPv6.10.2//NONSGML v1.0//EN
CALSCALE:GREGORIAN
METHOD:PUBLISH
X-ORIGINAL-URL:https://events.drinkdrakes.com
X-WR-CALDESC:Events for Events at Drake&#039;s Brewing
REFRESH-INTERVAL;VALUE=DURATION:PT1H
X-Robots-Tag:noindex
X-PUBLISHED-TTL:PT1H
BEGIN:VTIMEZONE
TZID:America/Los_Angeles
BEGIN:DAYLIGHT
TZOFFSETFROM:-0800
TZOFFSETTO:-0700
TZNAME:PDT
DTSTART:20260308T100000
END:DAYLIGHT
BEGIN:STANDARD
TZOFFSETFROM:-0700
TZOFFSETTO:-0800
TZNAME:PST
DTSTART:20261101T090000
END:STANDARD
END:VTIMEZONE
BEGIN:VEVENT
DTSTART;TZID=America/Los_Angeles:20260312T170000
DTEND;TZID=America/Los_Angeles:20260312T210000
DTSTAMP:20260422T045229
CREATED:20260219T171423Z
LAST-MODIFIED:20260312T204010Z
UID:10003731-1773334800-1773349200@events.drinkdrakes.com
SUMMARY:Beer vs. Booze Dinner
DESCRIPTION:We cordially invite you to join us for our Oakland Restaurant Week Kick-Off Party Beer vs. Booze Dinner at Drake’s Dealership as we raise a glass to The Town on Thursday\, March 12th. This lively four-course pairing experience officially launches Oakland Restaurant Week with bold seasonal flavors\, creative cocktails\, and Drake’s beer\, all enjoyed under the stars in our vibrant beer garden. \nThe evening begins at 5PM with a welcome beverage\, followed by four thoughtfully curated food and drink pairings that celebrate the creativity and culinary spirit that make Oakland Restaurant Week such a standout celebration of local dining. With live music from OrchKeystra\, great company\, and plenty to sip and savor\, this 21+ event is your perfect way to kick off Oakland Restaurant Week in delicious style. Seating is limited\, so gather your crew and join the party. \n \nMenu\n\nView Menu \nCourse 1\nAhi Tuna Tostada – tuna\, avocado\, chili crisp\, lime\, cilantro\, bang bang sauce\, furikake \n\nBeer Pairing – Flyway Pilsner\nBooze Pairing – Lychee Martini\n\nCourse 2\nChicken Skewers – with aji verde\, pickled red onion  \n\nBeer Pairing – Bold Rush Golden Ale\nBooze Pairing – Pisco Strawberry Basil Smash\n\nCourse 3\nSoy Braised Short Rib – served with rice\, roasted broccolini\, Fresno chili\, green onion \n\nBeer Pairing – Amber Ale\nBooze Pairing – Chili Cucumber Margarita\n\nCourse 4\nOrange Posset – with cara cara orange \n\nBeer Pairing – Death Of The Sun Barrel Aged Imperial Stout\nBooze Pairing – Berries N Cream Martini\n\nPurchase tickets here
URL:https://events.drinkdrakes.com/event/beer-vs-booze-dinner/
LOCATION:Drake’s Dealership\, 2325 Broadway\, Oakland\, CA\, 94612\, United States
CATEGORIES:Dealership
ATTACH;FMTTYPE=image/jpeg:https://events.drinkdrakes.com/wp-content/uploads/2026/02/beer-vs-booze-dinner-oakland-restaurant-week-kickoff-party-1920x1080-1.jpg
END:VEVENT
END:VCALENDAR