BEGIN:VCALENDAR
VERSION:2.0
PRODID:-//Events at Drake&#039;s Brewing - ECPv6.10.2//NONSGML v1.0//EN
CALSCALE:GREGORIAN
METHOD:PUBLISH
X-ORIGINAL-URL:https://events.drinkdrakes.com
X-WR-CALDESC:Events for Events at Drake&#039;s Brewing
REFRESH-INTERVAL;VALUE=DURATION:PT1H
X-Robots-Tag:noindex
X-PUBLISHED-TTL:PT1H
BEGIN:VTIMEZONE
TZID:America/Los_Angeles
BEGIN:DAYLIGHT
TZOFFSETFROM:-0800
TZOFFSETTO:-0700
TZNAME:PDT
DTSTART:20260308T100000
END:DAYLIGHT
BEGIN:STANDARD
TZOFFSETFROM:-0700
TZOFFSETTO:-0800
TZNAME:PST
DTSTART:20261101T090000
END:STANDARD
END:VTIMEZONE
BEGIN:VEVENT
DTSTART;TZID=America/Los_Angeles:20260508T180000
DTEND;TZID=America/Los_Angeles:20260508T193000
DTSTAMP:20260421T084143
CREATED:20260408T154933Z
LAST-MODIFIED:20260410T035224Z
UID:10003784-1778263200-1778268600@events.drinkdrakes.com
SUMMARY:Bingo & Bevs
DESCRIPTION:Bingo & Bevs lands at Drake’s Dealership on Friday\, May 8th\, bringing a high-energy night of drinks\, prizes\, and playful competition\, hosted by Mocktail & Mingle and inspired by the buzzworthy Heated Rivalry.
URL:https://events.drinkdrakes.com/event/heated-rivalry/
LOCATION:Drake’s Dealership\, 2325 Broadway\, Oakland\, CA\, 94612\, United States
CATEGORIES:Dealership
ATTACH;FMTTYPE=image/jpeg:https://events.drinkdrakes.com/wp-content/uploads/2026/04/heated-rivalry-bingo-bevs-1920x1080-1.jpg
END:VEVENT
END:VCALENDAR