BEGIN:VCALENDAR
VERSION:2.0
PRODID:-//Events at Drake&#039;s Brewing - ECPv6.10.2//NONSGML v1.0//EN
CALSCALE:GREGORIAN
METHOD:PUBLISH
X-WR-CALNAME:Events at Drake&#039;s Brewing
X-ORIGINAL-URL:https://events.drinkdrakes.com
X-WR-CALDESC:Events for Events at Drake&#039;s Brewing
REFRESH-INTERVAL;VALUE=DURATION:PT1H
X-Robots-Tag:noindex
X-PUBLISHED-TTL:PT1H
BEGIN:VTIMEZONE
TZID:America/Los_Angeles
BEGIN:DAYLIGHT
TZOFFSETFROM:-0800
TZOFFSETTO:-0700
TZNAME:PDT
DTSTART:20260308T100000
END:DAYLIGHT
BEGIN:STANDARD
TZOFFSETFROM:-0700
TZOFFSETTO:-0800
TZNAME:PST
DTSTART:20261101T090000
END:STANDARD
END:VTIMEZONE
BEGIN:VEVENT
DTSTART;TZID=America/Los_Angeles:20260522T220000
DTEND;TZID=America/Los_Angeles:20260522T230000
DTSTAMP:20260421T084038
CREATED:20260415T225628Z
LAST-MODIFIED:20260417T053831Z
UID:10003795-1779487200-1779490800@events.drinkdrakes.com
SUMMARY:Goodbye Cereal Man Wrestle Festival
DESCRIPTION:Step into the cosmic chaos of Goodbye Cereal Man at Drake’s Dealership on Friday\, May 22nd as SlamTown brings its wild wrestling spectacle to life with high-flying action\, out-of-this-world characters\, and a storyline that’s as bizarre as it is unforgettable. After crash landing on Earth and battling everything from toxic conditions to supernatural transformations\, Cereal Man is down to one final chance to earn his escape\, and astrologer MacDaddy MYLO promises a climactic showdown that could finally send him home. Expect electrifying matches\, theatrical storytelling\, and a one-night-only event that blends sci-fi fantasy with over-the-top wrestling entertainment in the most fun\, chaotic way possible. \n \nPurchase tickets here
URL:https://events.drinkdrakes.com/event/goodbye-cereal-man/
LOCATION:Drake’s Dealership\, 2325 Broadway\, Oakland\, CA\, 94612\, United States
CATEGORIES:Dealership
ATTACH;FMTTYPE=image/jpeg:https://events.drinkdrakes.com/wp-content/uploads/2026/04/SlamTown-Goodbye-Cereal-Man-Wrestle-Festival-1920x1080-1.jpg
END:VEVENT
END:VCALENDAR