BEGIN:VCALENDAR
VERSION:2.0
PRODID:-//Events at Drake&#039;s Brewing - ECPv6.10.2//NONSGML v1.0//EN
CALSCALE:GREGORIAN
METHOD:PUBLISH
X-WR-CALNAME:Events at Drake&#039;s Brewing
X-ORIGINAL-URL:https://events.drinkdrakes.com
X-WR-CALDESC:Events for Events at Drake&#039;s Brewing
REFRESH-INTERVAL;VALUE=DURATION:PT1H
X-Robots-Tag:noindex
X-PUBLISHED-TTL:PT1H
BEGIN:VTIMEZONE
TZID:America/Los_Angeles
BEGIN:DAYLIGHT
TZOFFSETFROM:-0800
TZOFFSETTO:-0700
TZNAME:PDT
DTSTART:20260308T100000
END:DAYLIGHT
BEGIN:STANDARD
TZOFFSETFROM:-0700
TZOFFSETTO:-0800
TZNAME:PST
DTSTART:20261101T090000
END:STANDARD
END:VTIMEZONE
BEGIN:VEVENT
DTSTART;TZID=America/Los_Angeles:20260221T080000
DTEND;TZID=America/Los_Angeles:20260221T170000
DTSTAMP:20260419T080941
CREATED:20260209T222321Z
LAST-MODIFIED:20260218T214520Z
UID:10003729-1771660800-1771693200@events.drinkdrakes.com
SUMMARY:SF Beer Week Fest 2026
DESCRIPTION:Drake’s Brewing Company is proud to pour at SF Beer Week Fest 2026\, the signature celebration of San Francisco Beer Week\, happening Saturday\, February 21st at the stunning rooftop oasis of Salesforce Park\, presented by and benefiting the Bay Area Brewers Guild. This can’t-miss kickoff brings the Bay Area craft beer community together for an unforgettable afternoon of unlimited tastings featuring limited-edition collaboration brews and special releases\, live entertainment\, and a commemorative tasting glass\, all set against the San Francisco skyline in a one-of-a-kind 5.4-acre park in the sky. As a rain or shine event that moves indoors if needed\, SF Beer Week Fest 2026 welcomes all ages to enjoy the park’s views and free entertainment while supporting local\, independent breweries and the nonprofit Guild that makes SF Beer Week possible. Come sip\, celebrate\, and raise a glass with us to the community that fuels Bay Area beer. 🍻 \n \nPurchase tickets here \nParticipating Breweries\n\nDrake’s Brewing Company\nAlameda Brewing\nAlvarado Street Brewery\nArmistice Brewing Company\nBarebottle Brewing Co.\nBartlett Brewing Company\nBeach Chalet Brewery\nBrix Factory\nCanyon Lakes Golf Club & Brewery\nDanville Brewing Co\nDel Cielo Brewing\nEnterprise Brewing Co\nFathers Brewing\nFieldwork Brewing Co.\nFifty Vara\nFort Point Beer Co.\nFruition Brewing\nGowan’s Heirloom Cider\nHarmonic Brewing\nHeadlands Brewing\nHidden Splendor Fine Beer Co\nHeadyworks\nHumble Sea Brewing Co.\nHop Dogma\nLaughing Monk\nThe Leopard Mark Brewing Co.\nMatch Point Brewing\nMagnolia Brewing\nOld Caz Beer\nOriginal Pattern Brewing\nOtherwise Brewing\nParliament Brewing\nPond Farm Brewing Co.\nRockaway Beach Brewery\nSan Francisco Brewing Company\nSonoma Springs Brewing\nSugoi Brewing Company\nTemescal Brewing\nTrumer Brewery\n\nSF Beer Week Schedule\n \n\nFriday\, 2/20 SlamTown\nSaturday\, 2/21 Yappy Hour\nSunday\, 2/22 Bluegrass Jam\nTuesday\, 2/24 Trivia Night\nWednesday\, 2/25 Love On Tap Speed Dating\nThursday\, 2/26 Beauty & The Brew Bingo\nSaturday\, 2/28 Blues N Brews\nSunday\, 3/1 Grillin N Chillin
URL:https://events.drinkdrakes.com/event/sf-beer-week-fest-2026/
LOCATION:Salesforce Park\, 425 Mission Street\, San Francisco\, CA\, 94105\, United States
CATEGORIES:On The Road
ATTACH;FMTTYPE=image/jpeg:https://events.drinkdrakes.com/wp-content/uploads/2026/02/SF-Beer-Week-Fest-2026-1920x1080-1.jpg
END:VEVENT
BEGIN:VEVENT
DTSTART;TZID=America/Los_Angeles:20260222T120000
DTEND;TZID=America/Los_Angeles:20260222T210000
DTSTAMP:20260419T080941
CREATED:20260218T005023Z
LAST-MODIFIED:20260219T071002Z
UID:10003732-1771761600-1771794000@events.drinkdrakes.com
SUMMARY:Triple Rock 40th Anniversary
DESCRIPTION:Triple Rock 40th Anniversary is raising a glass to four decades of iconic Bay Area brewing. Join the celebration at Triple Rock Brewing on Sunday\, February 22nd for a full day dedicated to Triple Rock history\, community\, and classic craft beer. Founded in 1986 and recognized as one of the first brewpubs in the United States after Prohibition\, Triple Rock is bringing back the original “3 Rocks” of the 1980s – Pinnacle Pale Ale\, Red Rock Ale\, and Black Rock Porter. Celebrate with us at a gathering of former Triple Rock brewers and Bay Area craft beer legends hosted by founders John and Reid Martin and an afternoon of local beer history and a good old fashioned party. \nGuests\n\nRick Warner\nRoger Lind\nShaun O’Sullivan\nJon Paxman\nChristian Kazakoff\nRodger Davis\nJeff Kimpe\nJudy Ashworth\n\nFood Specials\n\nTriple Rock Muffaletta\nAvalanche Burger Platter\nPickled Eggs\n\n \nSF Beer Week Schedule\n \n\nFriday\, 2/20 SlamTown\nSaturday\, 2/21 Yappy Hour\nSaturday\, 2/21 SF Beer Week Fest 2026\nSunday\, 2/22 Bluegrass Jam\nTuesday\, 2/24 Trivia Night\nWednesday\, 2/25 Love On Tap Speed Dating\nThursday\, 2/26 Beauty & The Brew Bingo\nSaturday\, 2/28 Blues N Brews\nSunday\, 3/1 Grillin N Chillin
URL:https://events.drinkdrakes.com/event/triple-rock-40th-anniversary/
LOCATION:Triple Rock Brewing
CATEGORIES:On The Road
ATTACH;FMTTYPE=image/jpeg:https://events.drinkdrakes.com/wp-content/uploads/2026/02/SFBW26-Triple-Rock-Anniversary-1920x1080-1.jpg
END:VEVENT
BEGIN:VEVENT
DTSTART;TZID=America/Los_Angeles:20260307T110000
DTEND;TZID=America/Los_Angeles:20260307T150000
DTSTAMP:20260419T080941
CREATED:20260304T200814Z
LAST-MODIFIED:20260304T200956Z
UID:10003741-1772881200-1772895600@events.drinkdrakes.com
SUMMARY:Capitol Beer Fest
DESCRIPTION:Spend the day with us at Sacramento’s Capitol Mall for the Capitol Beer Fest on Saturday\, March 7th\, enjoying live music\, food trucks from 20+ vendors\, and beer from Drake’s as well as many other excellent CA breweries! Proceeds from ticket sales go to local nonprofit Runnin’ for Rhett Youth Fitness Program. \nPurchase tickets here
URL:https://events.drinkdrakes.com/event/capitol-beer-fest-2026/
LOCATION:Capitol Mall\, 300N N St\, Sacramento\, CA\, 95814\, United States
CATEGORIES:On The Road
ATTACH;FMTTYPE=image/jpeg:https://events.drinkdrakes.com/wp-content/uploads/2025/02/capitol-beer-fest-1920x1080-1.jpg
END:VEVENT
BEGIN:VEVENT
DTSTART;TZID=America/Los_Angeles:20260402T170000
DTEND;TZID=America/Los_Angeles:20260402T200000
DTSTAMP:20260419T080941
CREATED:20260331T070025Z
LAST-MODIFIED:20260402T200205Z
UID:10003777-1775149200-1775160000@events.drinkdrakes.com
SUMMARY:The Taste Of San Leandro
DESCRIPTION:Raise a glass with us at The Taste Of San Leandro on Thursday\, April 2nd at Zero Net Energy Center as Drake’s Brewing Company joins fellow local favorites for an evening of flavor\, community\, and connection. Presented by the San Leandro Chamber Of Commerce\, this experience brings together the best of the city with tastings\, sips\, and a shared celebration of everything that makes San Leandro special. \n\nRegister
URL:https://events.drinkdrakes.com/event/the-taste-of-san-leandro/
LOCATION:Zero Net Energy Center\, 14600 Catalina St.\, San Leandro\, CA\, 94577\, United States
CATEGORIES:On The Road
ATTACH;FMTTYPE=image/jpeg:https://events.drinkdrakes.com/wp-content/uploads/2026/03/The-Taste-Of-San-Leandro-1920x1080-1.jpg
END:VEVENT
BEGIN:VEVENT
DTSTART;TZID=America/Los_Angeles:20260411T113000
DTEND;TZID=America/Los_Angeles:20260411T163000
DTSTAMP:20260419T080941
CREATED:20260221T023930Z
LAST-MODIFIED:20260224T214155Z
UID:10003734-1775907000-1775925000@events.drinkdrakes.com
SUMMARY:Lagerville
DESCRIPTION:Get ready for Lagerville 2026\, one of the most anticipated lager festivals of the year. We are thrilled to join the lineup at Figueroa Mountain Brewing Company\, where more than 60 top craft breweries from across the country and beyond will gather for an unforgettable day dedicated entirely to world class lagers on Saturday\, April 11th\, welcoming more than 1\,500 beer lovers for an afternoon of unlimited sampling\, brewer meet and greets\, and serious lager appreciation. As part of the Lagerville lineup\, Drake’s is proud to pour our crisp and refreshing Flyway Pilsner\, the hop-forward North German style pilsner brewed for easy drinking and big flavor. \nYour ticket includes a commemorative tasting glass and access to sample from every participating brewery on site\, making Lagerville the ultimate destination for fans of pilsners\, helles\, dunkels\, and everything in between. Join us in Buellton and raise a glass to great beer\, great breweries\, and the art of lager brewing. \n \nPurchase tickets here
URL:https://events.drinkdrakes.com/event/lagerville-2026/
LOCATION:Figueroa Mountain Brewing Company\, 45 Industrial Way\, Buellton\, CA\, 93427\, United States
CATEGORIES:On The Road
ATTACH;FMTTYPE=image/jpeg:https://events.drinkdrakes.com/wp-content/uploads/2026/02/lagerville-1920x1080-1.jpg
END:VEVENT
BEGIN:VEVENT
DTSTART;TZID=America/Los_Angeles:20260411T130000
DTEND;TZID=America/Los_Angeles:20260411T170000
DTSTAMP:20260419T080941
CREATED:20260331T061928Z
LAST-MODIFIED:20260331T064021Z
UID:10003776-1775912400-1775926800@events.drinkdrakes.com
SUMMARY:Battle Of The Brews
DESCRIPTION:Get ready to rock\, roll\, and raise a pint with Drake’s at the 29th Annual Battle of the Brews on Saturday\, April 11th\, at the Sonoma County Fairgrounds! This legendary event features the Craft Cup\, a high-stakes brewing battle judged by BJCP-certified experts\, where top microbreweries from across the country go head-to-head and a BBQ competition that’ll have your taste buds headbanging!\n \nWhat’s On Tap:\n\nUnlimited beer tastings from killer local breweries\nLive music to keep the party rockin’\nA silent auction stacked with awesome prizes\nMouthwatering eats from local legends\n\nBest of all? Every sip supports children in need in Sonoma County. So come thirsty\, come hungry\, and come ready to party for a great cause!   \nSnag your tickets now before they’re gone! \n \nPurchase tickets here
URL:https://events.drinkdrakes.com/event/battle-of-the-brews-260411/
LOCATION:Sonoma County Fairgrounds\, 1450 Bennett Valley Rd\, Santa Rosa\, CA\, 95404\, United States
CATEGORIES:On The Road
ATTACH;FMTTYPE=image/jpeg:https://events.drinkdrakes.com/wp-content/uploads/2025/04/battle-of-the-brews-1920x1080-1.jpg
END:VEVENT
BEGIN:VEVENT
DTSTART;TZID=America/Los_Angeles:20260613T110000
DTEND;TZID=America/Los_Angeles:20260614T180000
DTSTAMP:20260419T080941
CREATED:20260211T062240Z
LAST-MODIFIED:20260211T063652Z
UID:10003730-1781348400-1781460000@events.drinkdrakes.com
SUMMARY:Novato Chamber Art\, Wine\, and Music Festival
DESCRIPTION:Drake’s Brewing Company is proud to be a part of Novato Chamber Art\, Wine\, and Music Festival the weekend of June 13th-14th in Downtown Novato. Bring your friends\, bring your family\, and join us for two full days of art\, wine\, craft beer\, live music\, and celebrating summer with nonstop downtown energy.
URL:https://events.drinkdrakes.com/event/novato-chamber-art-wine-and-music-festival/
LOCATION:Downtown Novato\, Novato\, CA\, 94945\, United States
CATEGORIES:On The Road
ATTACH;FMTTYPE=image/jpeg:https://events.drinkdrakes.com/wp-content/uploads/2026/02/Novato-Chamber-Art-Wine-and-Music-Festival-1920x1080-1.jpg
END:VEVENT
END:VCALENDAR