BEGIN:VCALENDAR
VERSION:2.0
PRODID:-//Events at Drake&#039;s Brewing - ECPv6.10.2//NONSGML v1.0//EN
CALSCALE:GREGORIAN
METHOD:PUBLISH
X-WR-CALNAME:Events at Drake&#039;s Brewing
X-ORIGINAL-URL:https://events.drinkdrakes.com
X-WR-CALDESC:Events for Events at Drake&#039;s Brewing
REFRESH-INTERVAL;VALUE=DURATION:PT1H
X-Robots-Tag:noindex
X-PUBLISHED-TTL:PT1H
BEGIN:VTIMEZONE
TZID:America/Los_Angeles
BEGIN:DAYLIGHT
TZOFFSETFROM:-0800
TZOFFSETTO:-0700
TZNAME:PDT
DTSTART:20260308T100000
END:DAYLIGHT
BEGIN:STANDARD
TZOFFSETFROM:-0700
TZOFFSETTO:-0800
TZNAME:PST
DTSTART:20261101T090000
END:STANDARD
END:VTIMEZONE
BEGIN:VEVENT
DTSTART;TZID=America/Los_Angeles:20260425T120000
DTEND;TZID=America/Los_Angeles:20260425T160000
DTSTAMP:20260424T072436
CREATED:20260408T020058Z
LAST-MODIFIED:20260408T192255Z
UID:10003781-1777118400-1777132800@events.drinkdrakes.com
SUMMARY:Crafts & Drafts
DESCRIPTION:Your favorite day-drinking and shopping experience\, Crafts And Drafts\, is happening Saturdays at Drake’s: The Barn! Come get a cold one and meet your local makers in one convenient and fun spot! Hosted by River City Marketplace\, dog and kid friendly! We look forward to seeing you out there. \n \nENTRY FOR CRAFTS & DRAFTS ON RIVER WALK TRAIL / SECURITY WILL ID & WRISTBAND GUESTS 21+
URL:https://events.drinkdrakes.com/event/crafts-drafts-2026/2026-04-25/
LOCATION:Drake’s: The Barn\, 985 Riverfront Street\, West Sacramento\, CA\, 95691\, United States
CATEGORIES:The Barn
ATTACH;FMTTYPE=image/jpeg:https://events.drinkdrakes.com/wp-content/uploads/2025/10/Crafts-Drafts-1920x1080-1.jpg
END:VEVENT
BEGIN:VEVENT
DTSTART;TZID=America/Los_Angeles:20261003T120000
DTEND;TZID=America/Los_Angeles:20261003T160000
DTSTAMP:20260424T072436
CREATED:20260408T020058Z
LAST-MODIFIED:20260408T192255Z
UID:10003782-1791028800-1791043200@events.drinkdrakes.com
SUMMARY:Crafts & Drafts
DESCRIPTION:Your favorite day-drinking and shopping experience\, Crafts And Drafts\, is happening Saturdays at Drake’s: The Barn! Come get a cold one and meet your local makers in one convenient and fun spot! Hosted by River City Marketplace\, dog and kid friendly! We look forward to seeing you out there. \n \nENTRY FOR CRAFTS & DRAFTS ON RIVER WALK TRAIL / SECURITY WILL ID & WRISTBAND GUESTS 21+
URL:https://events.drinkdrakes.com/event/crafts-drafts-2026/2026-10-03/
LOCATION:Drake’s: The Barn\, 985 Riverfront Street\, West Sacramento\, CA\, 95691\, United States
CATEGORIES:The Barn
ATTACH;FMTTYPE=image/jpeg:https://events.drinkdrakes.com/wp-content/uploads/2025/10/Crafts-Drafts-1920x1080-1.jpg
END:VEVENT
BEGIN:VEVENT
DTSTART;TZID=America/Los_Angeles:20261219T120000
DTEND;TZID=America/Los_Angeles:20261219T160000
DTSTAMP:20260424T072436
CREATED:20260408T020058Z
LAST-MODIFIED:20260408T192255Z
UID:10003783-1797681600-1797696000@events.drinkdrakes.com
SUMMARY:Crafts & Drafts
DESCRIPTION:Your favorite day-drinking and shopping experience\, Crafts And Drafts\, is happening Saturdays at Drake’s: The Barn! Come get a cold one and meet your local makers in one convenient and fun spot! Hosted by River City Marketplace\, dog and kid friendly! We look forward to seeing you out there. \n \nENTRY FOR CRAFTS & DRAFTS ON RIVER WALK TRAIL / SECURITY WILL ID & WRISTBAND GUESTS 21+
URL:https://events.drinkdrakes.com/event/crafts-drafts-2026/2026-12-19/
LOCATION:Drake’s: The Barn\, 985 Riverfront Street\, West Sacramento\, CA\, 95691\, United States
CATEGORIES:The Barn
ATTACH;FMTTYPE=image/jpeg:https://events.drinkdrakes.com/wp-content/uploads/2025/10/Crafts-Drafts-1920x1080-1.jpg
END:VEVENT
END:VCALENDAR