BEGIN:VCALENDAR
VERSION:2.0
PRODID:-//Events at Drake&#039;s Brewing - ECPv6.10.2//NONSGML v1.0//EN
CALSCALE:GREGORIAN
METHOD:PUBLISH
X-WR-CALNAME:Events at Drake&#039;s Brewing
X-ORIGINAL-URL:https://events.drinkdrakes.com
X-WR-CALDESC:Events for Events at Drake&#039;s Brewing
REFRESH-INTERVAL;VALUE=DURATION:PT1H
X-Robots-Tag:noindex
X-PUBLISHED-TTL:PT1H
BEGIN:VTIMEZONE
TZID:America/Los_Angeles
BEGIN:DAYLIGHT
TZOFFSETFROM:-0800
TZOFFSETTO:-0700
TZNAME:PDT
DTSTART:20250309T100000
END:DAYLIGHT
BEGIN:STANDARD
TZOFFSETFROM:-0700
TZOFFSETTO:-0800
TZNAME:PST
DTSTART:20251102T090000
END:STANDARD
END:VTIMEZONE
BEGIN:VEVENT
DTSTART;TZID=America/Los_Angeles:20250607T120000
DTEND;TZID=America/Los_Angeles:20250607T170000
DTSTAMP:20260421T213955
CREATED:20250429T202502Z
LAST-MODIFIED:20250429T203412Z
UID:10003371-1749297600-1749315600@events.drinkdrakes.com
SUMMARY:Battle Of The Dad Bands
DESCRIPTION:Battle Of The Dad Bands is back\, and Drake’s is turning Piper Park into a full-blown punk ‘n’ roll playground on Saturday\, June 7th from 12–5PM! Get ready for a face-melting showdown of Marin County’s finest Dad Bands as they plug in\, turn up\, and battle it out for suburban rock supremacy! \n\n7 bands will rock the stage all day long—think less PTA\, more power chords\n6 food trucks dishing out grub that’s way more hardcore than your dad’s BBQ\n15+ badass breweries serving unlimited tastings\n5+ local merchants slingin’ cool\, one-of-a-kind goods\nVIP section with primo perks for those who like their punk with a touch of pamper\nKid Zone for the mini-moshers\n\nWhether you’re here for the riffs\, the hops\, or just to cheer on your flannel-wearing\, Strat-shredding pops—this summer fest is loud\, proud\, and family-friendly fun with a punk edge. Don’t miss the most dad-tastic day of the year—Battle Of The Dad Bands is ready to rock Larkspur! \n\nPurchase tickets here
URL:https://events.drinkdrakes.com/event/battle-of-the-dad-bands/
LOCATION:Piper Park\, 250 Doherty Dr\, Larkspur\, CA\, 94939\, United States
CATEGORIES:On The Road
ATTACH;FMTTYPE=image/jpeg:https://events.drinkdrakes.com/wp-content/uploads/2025/04/battle-of-the-dad-bands-1920x1080-1.jpg
END:VEVENT
END:VCALENDAR